BEGIN:VCALENDAR
VERSION:2.0
PRODID:-//wp-events-plugin.com//7.2.3.1//EN
TZID:America/New_York
X-WR-TIMEZONE:America/New_York
BEGIN:VEVENT
UID:697@clubdimension.org
DTSTART;TZID=America/New_York:20220420T190000
DTEND;TZID=America/New_York:20220420T210000
DTSTAMP:20220307T193848Z
URL:https://www.clubdimension.org/evenements/theme-4-ombres-et-lumieres-cl
 air-obscur/
SUMMARY:Thème 4 - Ombres et lumières (clair-obscur)
DESCRIPTION:Là où le contraste entre les zones claires et les zones
 sombres suggère un relief\, un volume.\nDate de tombée le 3 avril
 2022\nResponsable : Jacques Morissette\nDeux étapes pour participer :\n(
 en raison de contraintes hors de notre contrôle\, il nous est impossible
 de disposer les formulaires dans la séquence voulue )\n\n 	\n\n 	1 -
 S'inscrire dans la section Réservations au bas de la page en cliquant sur
 le bouton&nbsp\; &gt\;Envoyer votre demande de réservation&lt\;&nbsp\; au
 bas de la page\n 	2 - Transmettre votre photo via le formulaire Étape
 2\n\n\n\n&nbsp\;\n\nATTENTION : Vous devez transmettre votre photo en même
 temps que votre inscription pour que celle-ci soit valide.\n\nVeuillez
 noter que les photos reçues sans inscriptions (à la section
 Réservations) ne seront pas retenues.&nbsp\;\n\nUn courriel confirmant la
 conformité de votre inscription vous parviendra le lundi suivant
 celle-ci.&nbsp\; &nbsp\;Veuillez contacter le responsable à l'adresse
 courriel themes@clubdimension.org si vous n'avez pas reçu cette
 confirmation.\nÉtape 2&nbsp\;\n[su_spoiler open="no" title="Formulaire de
 transmission" style="simple"] [contact-form-7 id="43847" title="Thème 4"]
 [/su_spoiler]
END:VEVENT
BEGIN:VTIMEZONE
TZID:America/New_York
X-LIC-LOCATION:America/New_York
BEGIN:DAYLIGHT
DTSTART:20220313T030000
TZOFFSETFROM:-0500
TZOFFSETTO:-0400
TZNAME:EDT
END:DAYLIGHT
END:VTIMEZONE
END:VCALENDAR