BEGIN:VCALENDAR
VERSION:2.0
PRODID:-//wp-events-plugin.com//7.2.3.1//EN
TZID:America/New_York
X-WR-TIMEZONE:America/New_York
BEGIN:VEVENT
UID:695@clubdimension.org
DTSTART;TZID=America/New_York:20211215T190000
DTEND;TZID=America/New_York:20211215T210000
DTSTAMP:20211201T230825Z
URL:https://www.clubdimension.org/evenements/theme-2-nuages-brume-et-broui
 llard/
SUMMARY:Thème 2 - Nuage(s)\, brume et brouillard
DESCRIPTION:Images qui mettent en évidence ces phénomènes
 météorologiques.\nDate de tombée le 1er décembre 2021\nResponsable
 :&nbsp\;Sylvain Bergeron\n\nUn courriel confirmant la réception de votre
 photo devrait vous parvenir dans un délai de deux jours.&nbsp\; Veuillez
 contacter le responsable à l'adresse courriel themes@clubdimension.org si
 vous n'avez pas reçu cette confirmation.\nFaites-nous parvenir votre
 photo\n[contact-form-7 id="43845" title="Thème 2"]
END:VEVENT
BEGIN:VTIMEZONE
TZID:America/New_York
X-LIC-LOCATION:America/New_York
BEGIN:STANDARD
DTSTART:20211107T010000
TZOFFSETFROM:-0400
TZOFFSETTO:-0500
TZNAME:EST
END:STANDARD
END:VTIMEZONE
END:VCALENDAR