BEGIN:VCALENDAR
VERSION:2.0
PRODID:-//wp-events-plugin.com//7.2.3.1//EN
TZID:America/New_York
X-WR-TIMEZONE:America/New_York
BEGIN:VEVENT
UID:756@clubdimension.org
DTSTART;TZID=America/New_York:20211208T190000
DTEND;TZID=America/New_York:20211208T210000
DTSTAMP:20220912T205554Z
URL:https://www.clubdimension.org/evenements/theme-2-macrophotographie/
SUMMARY:Thème 2 - Macrophotographie / Proxyphoto / Minuscule
DESCRIPTION:thème #2:&nbsp\;Macrophotographie /&nbsp\;Proxyphoto&nbsp\;/
 Minuscule:\nLa macrophotographie est réalisée grâce à un équipement
 spécialisé (objectif macro\, tubes allonges ou autres) pour photographier
 les objets de petites tailles et produire des images avec un grossissement
 allant de 1 :1 (taille réelle) jusqu’à 10 :1.\n\nLa photo PROXY est
 réalisée avec un objectif (lentille) normal en se rapprochant très près
 du sujet photographié.\n\nLa photo minuscule (microphotographie) est
 réalisée avec des équipements spécialisés (microscope…) pour
 produire des images à partir d’objets de très petite taille et même
 parfois invisibles à l’œil nu pour générer des images avec un
 grossissement supérieur à 10 :1.\n\n&nbsp\;Date de tombée le 20 novembre
 2022\n\nResponsable : Jean-Pierre Riffon\nDeux étapes pour participer :\n(
 en raison de contraintes hors de notre contrôle\, il nous est impossible
 de disposer les formulaires dans la séquence voulue )\n\n 	\n\n 	1 -
 S'inscrire dans la section Réservations au bas de la page en cliquant sur
 le bouton&nbsp\; &gt\;Envoyer votre demande de réservation&lt\;&nbsp\; au
 bas de la page\n 	2 - Transmettre votre photo via le formulaire Étape
 2\n\n\n\n&nbsp\;\n\nATTENTION : Vous devez transmettre votre photo en même
 temps que votre inscription pour que celle-ci soit valide.\n\nVeuillez
 noter que les photos reçues sans inscriptions (à la section
 Réservations) ne seront pas retenues.&nbsp\;\n\nUn courriel confirmant la
 réception de votre photo devrait vous parvenir dans un délai de deux
 jours.&nbsp\; Veuillez contacter le responsable à l'adresse courriel
 themes@clubdimension.org si vous n'avez pas reçu cette
 confirmation.\nÉtape 2\n&nbsp\;\n[su_spoiler open="no" title="Formulaire
 de transmission" style="simple"][contact-form-7 id="43845" title="Thème
 2"][/su_spoiler]
END:VEVENT
BEGIN:VTIMEZONE
TZID:America/New_York
X-LIC-LOCATION:America/New_York
BEGIN:STANDARD
DTSTART:20211107T010000
TZOFFSETFROM:-0400
TZOFFSETTO:-0500
TZNAME:EST
END:STANDARD
END:VTIMEZONE
END:VCALENDAR