BEGIN:VCALENDAR
VERSION:2.0
PRODID:-//wp-events-plugin.com//7.2.3.1//EN
TZID:America/New_York
X-WR-TIMEZONE:America/New_York
BEGIN:VEVENT
UID:768@clubdimension.org
DTSTART:20221017T061500Z
DTEND:20221017T070000Z
DTSTAMP:20221013T121738Z
URL:https://www.clubdimension.org/evenements/test-formulaire/
SUMMARY:test formulaire
DESCRIPTION:Activité test&nbsp\;
CATEGORIES:Ateliers
END:VEVENT
END:VCALENDAR