BEGIN:VCALENDAR
VERSION:2.0
PRODID:-//wp-events-plugin.com//7.2.3.1//EN
TZID:America/New_York
X-WR-TIMEZONE:America/New_York
BEGIN:VEVENT
UID:769@clubdimension.org
DTSTART:20221017T073000Z
DTEND:20221017T081500Z
DTSTAMP:20221013T122325Z
URL:https://www.clubdimension.org/evenements/test-2/
SUMMARY:test 2
DESCRIPTION:test 2 de résergvation
CATEGORIES:Ateliers
END:VEVENT
END:VCALENDAR