BEGIN:VCALENDAR
VERSION:2.0
PRODID:-//wp-events-plugin.com//7.2.3.1//EN
TZID:America/New_York
X-WR-TIMEZONE:America/New_York
BEGIN:VEVENT
UID:729@clubdimension.org
DTSTART;TZID=America/New_York:20220115T090000
DTEND;TZID=America/New_York:20220115T120000
DTSTAMP:20220107T224248Z
URL:https://www.clubdimension.org/evenements/studio-photo-defi-declairage-
 am-3/
SUMMARY:Studio Photo - défi d'éclairage (AM)
DESCRIPTION:Activité reportée pour cause de pandémie\n&nbsp\;\n\nAtelier
 d'une demi-journée pour reproduire différents exemples d'éclairage de
 studio qui vous seront présentés.\n\nVenez relever ce défi en toute
 collégialité pour mettre à l'essai vos notions de studio sans être un
 expert de la photo de studio.&nbsp\; Il suffit d'avoir une expérience
 minimale de studio photo ou d'avoir suivi la formation «Introduction au
 studio photo» offerte par le club de photo Dimension.\n\nActivité ouverte
 aux membres réguliers et membres abonnés: 12 places disponibles
 seulementé\n\nDe 9h à 12h.&nbsp\;\n\nNe pas oublier sa caméra avec des
 piles chargées\, son masque et son passeport vaccinal (COVID
 oblige).\n\nBillet membre régulier disponible à partir du 22 décembre
 2021\n\nBillet membre abonné disponible à partir du 8 janvier
 2022\n\nPour information ou pour s'inscrire sur une liste d'attente pour
 cette activité\, écrire à studio@clubdimension.org
CATEGORIES:Ateliers
LOCATION:Ateliers du Réacteur\, 731\, rue St-Vallier Est\, Québec\,
 Québec\, G1K 3P9\, Canada
X-APPLE-STRUCTURED-LOCATION;VALUE=URI;X-ADDRESS=731\, rue St-Vallier Est\,
 Québec\, Québec\, G1K 3P9\, Canada;X-APPLE-RADIUS=100;X-TITLE=Ateliers du
 Réacteur:geo:0,0
END:VEVENT
BEGIN:VTIMEZONE
TZID:America/New_York
X-LIC-LOCATION:America/New_York
BEGIN:STANDARD
DTSTART:20211107T010000
TZOFFSETFROM:-0400
TZOFFSETTO:-0500
TZNAME:EST
END:STANDARD
END:VTIMEZONE
END:VCALENDAR