BEGIN:VCALENDAR
VERSION:2.0
PRODID:-//wp-events-plugin.com//7.2.3.1//EN
TZID:America/New_York
X-WR-TIMEZONE:America/New_York
BEGIN:VEVENT
UID:668@clubdimension.org
DTSTART;TZID=America/New_York:20210320T090000
DTEND;TZID=America/New_York:20210320T120000
DTSTAMP:20210312T193813Z
URL:https://www.clubdimension.org/evenements/studio-photo-defi-declairage-
 am-2/
SUMMARY:Studio Photo - défi d'éclairage (AM)
DESCRIPTION:Atelier d'une demi-journée pour reproduire différents
 exemples d'éclairage de studio qui vous seront présentés.\n\nVenez
 relever ce défi en toute collégialité et à mettre à l'essai vos
 notions de studio sans être un expert du studio.&nbsp\; Il suffit d'avoir
 une expérience minimale de studio photo ou d'avoir suivi la formation
 «Introduction au studio photo» offerte par le club de photo
 Dimension.\n\nDe 9h à 12h.&nbsp\;\n\nNe pas oublier sa caméra avec des
 piles chargées et son masque (COVID oblige).
CATEGORIES:Ateliers
LOCATION:Ateliers du Réacteur\, 731\, rue St-Vallier Est\, Québec\,
 Québec\, G1K 3P9\, Canada
X-APPLE-STRUCTURED-LOCATION;VALUE=URI;X-ADDRESS=731\, rue St-Vallier Est\,
 Québec\, Québec\, G1K 3P9\, Canada;X-APPLE-RADIUS=100;X-TITLE=Ateliers du
 Réacteur:geo:0,0
END:VEVENT
BEGIN:VTIMEZONE
TZID:America/New_York
X-LIC-LOCATION:America/New_York
BEGIN:DAYLIGHT
DTSTART:20210314T030000
TZOFFSETFROM:-0500
TZOFFSETTO:-0400
TZNAME:EDT
END:DAYLIGHT
END:VTIMEZONE
END:VCALENDAR