BEGIN:VCALENDAR
VERSION:2.0
PRODID:-//wp-events-plugin.com//7.2.3.1//EN
TZID:America/New_York
X-WR-TIMEZONE:America/New_York
BEGIN:VEVENT
UID:704@clubdimension.org
DTSTART;TZID=America/New_York:20211013T173000
DTEND;TZID=America/New_York:20211013T234500
DTSTAMP:20211008T171103Z
URL:https://www.clubdimension.org/evenements/sortie-quebec-ville-en-rose/
SUMMARY:Sortie - Québec Ville en rose
DESCRIPTION:Le Club Dimension profite du mouvement  Québec Ville EN ROSE
 pour organiser une sortie photo en petits groupes dans 4 lieux de la
 ville.\n\n1er lieu:  Vieux-Port (fontaine Daudelin (gare du palais)\,
 silos Bunge\, gare du Palais\, Musée de la civilisation\, Hôtel Le
 Priori\, groupe Desgagnés (à côté du traversier)) Un peu de marche
 entre les sites. Point de rassemblement : Fontaine Daudelin\n\n2e lieu:
 Parlement (fontaine de Tourny\, Hôtel Château Laurier\, Centre des
 congrès\, restaurant le Grand café (sur Grande-Allée) Point de
 rassemblement : Fontaine de Tourny\n\n3e lieu: Vieux Québec (Château
 Frontenac\, Édifice Price\, Hôtel de ville\, Musée de l'Amérique
 francophone) Point de rassemblement : Porte principale de l’Hôtel de
 ville\n\n4e lieu: Carré D’Youville (Palais Montcalm\, théâtre
 Capitole\, Hôtel Marriott) Point de rassemblement : devant le théâtre
 Capitole\n\n 	Date de la sortie : le mercredi 13 octobre (remis au 14 en
 cas de pluie).\n 	Nous aurions besoin d’un responsable par groupe pour
 chacune des dates. Le responsable a simplement pour tâche d’accueillir
 les participants. Si vous êtes intéressés\, inscrivez votre nom dans la
 partie commentaire.\n\nVous pouvez vous inscrire en cliquant entre les 4 et
 11 octobre (membres réguliers) entre les 8 et 11 octobre
 (abonnés).\n\n&nbsp\;
CATEGORIES:Activités
END:VEVENT
BEGIN:VTIMEZONE
TZID:America/New_York
X-LIC-LOCATION:America/New_York
BEGIN:DAYLIGHT
DTSTART:20210314T030000
TZOFFSETFROM:-0500
TZOFFSETTO:-0400
TZNAME:EDT
END:DAYLIGHT
END:VTIMEZONE
END:VCALENDAR