BEGIN:VCALENDAR
VERSION:2.0
PRODID:-//wp-events-plugin.com//7.2.3.1//EN
TZID:America/New_York
X-WR-TIMEZONE:America/New_York
BEGIN:VEVENT
UID:523@clubdimension.org
DTSTART:20190525T123000Z
DTEND:20190525T210000Z
DTSTAMP:20190509T023842Z
URL:https://www.clubdimension.org/evenements/sortie-photo-nature-au-cap-to
 urmente/
SUMMARY:Sortie photo nature au Cap-Tourmente
DESCRIPTION:Marc Parrot propose une sortie photo nature au Cap
 Tourmente\n&nbsp\;\nLIEU DE RASSEMBLEMENT: Stationnement du domaine
 Maizerets\, mais du côté de l'arboretum sur la rue
 d'Estimauville\n&nbsp\;\nHEURE DE RASSEMBLEMENT: 7h45\n&nbsp\;\nCOÛT
 D'ACCÈS À LA RÉSERVE: 6$ (adulte)\n&nbsp\;\nDÉROULEMENT DE LA
 SORTIE:\nImportant : remis au lendemain en cas de météo
 défavorable.\nNous quitterons le stationnement de l'arboretum de Maizerets
 vers 7h50-7h55 en covoiturage pour arriver au
 Cap-Tourmente.&nbsp\;\n&nbsp\;\nPour celles et ceux qui aimeraient
 planifier leur circuit de visite\, voici le lien vers la carte des
 sentiers:
 https://www.canada.ca/fr/environnement-changement-climatique/services/reser
 ves-nationales-faune/existantes/cap-tourmente/carte-sentiers-pedestres.html
 \n&nbsp\;\nChacun apporte son lunch\, nous pourrons nous retrouver vers
 11h45 à l'abri qui se trouve près du centre d'interprétation pour
 partager le repas tous ensemble.&nbsp\;\n&nbsp\;\nLe retour s'effectuera
 selon les désirs/obligations des covoitureurs d'un même véhicule qui
 s'entendront au préalable entre eux.\n&nbsp\;\nINSCRIPTION:\nAfin de
 planifier le déplacement du groupe\, il vous est demandé de signifier
 votre intérêt à participer à cette sortie nature en vous inscrivant
 avant 20hres le 23 mai.\n&nbsp\;\nComme cette sortie est ouverte à tous
 (conjoint\, amis)\, merci d'indiquer le nombre de personnes qui\, de votre
 côté\, participeront à la sortie.\n&nbsp\;\nDe plus\, si vous avez
 besoin d'un transport pour vous rendre au stationnement de l'arboretum
 et/ou au Cap-Tourmente\, prière d'en aviser Marc Parrot avant le 23
 mai.\n&nbsp\;\nOBJECTIFS SUGGÉRÉS:\nUn téléobjectif (200 mm et plus)
 ainsi qu'un objectif macro (60-100 mm) sont recommandés pour pouvoir
 capter tant les grosses que les petites bestioles de la réserve
 !!!\n&nbsp\;\nAu plaisir de vous y retrouver !
CATEGORIES:Sorties photo
END:VEVENT
END:VCALENDAR