BEGIN:VCALENDAR
VERSION:2.0
PRODID:-//wp-events-plugin.com//7.2.3.1//EN
TZID:America/New_York
X-WR-TIMEZONE:America/New_York
BEGIN:VEVENT
UID:557@clubdimension.org
DTSTART:20191019T120000Z
DTEND:20191019T230000Z
DTSTAMP:20190922T163959Z
URL:https://www.clubdimension.org/evenements/sortie-lac-des-cygnes/
SUMMARY:Sortie - Lac des Cygnes
DESCRIPTION:Cette sortie fera suite à la présentation de Isa Eve Chabot
 de sa démarche artistique-photographique le 16&nbsp\;octobre\, où elle
 nous parlera de perception – composition – exploration –
 créativité\n\nPourquoi? Pour le dépaysement. On y retrouve une
 végétation montagnarde subalpine et l'éventail du choix (roche\,
 végétaux\, paysage d'automne)\n\nTrajet&nbsp\;: nous passerons par le
 sentier Pioui et le Lac à l’ours&nbsp\;&nbsp\;\n\nDistance : 10.4 km
 (aller-retour)\, environ 5 h de marche. À noter que le niveau de la
 randonnée est évalué "difficile" avec une dénivellation de 480 mètre.
 Une bonne condition physique est recommandé.&nbsp\;&nbsp\;\n\nCoût
 d’entrée&nbsp\;: 8\,75 $ (s’inscrire en ligne sur le site de la SEPAQ
 dans Parcs nationaux du Québec\, Parc des Grands-Jardins\, Accès
 quotidien\, date&nbsp\;: 19 octobre Billet à imprimer)\n\nDépart&nbsp\;:
 7 h\n\nRetour&nbsp\;: vers 18 h\n\nPoint de rassemblement&nbsp\;: Mc
 Donald\, 1re avenue\n\nCo-voiturage fortement encouragé\n\nÉquipement
 recommandé&nbsp\;: &nbsp\;&nbsp\;\n\n 	Apporter votre lunch\n 	Quelques
 collations\n 	Bouteille d’eau\n 	Bons souliers ou bottes de marche\n
 	Habillement suggéré : coupe-vent\, chandail chaud (épluchure
 d’oignon)\n 	Gants\n 	Équipement photo léger\n 	J’aurai
 une&nbsp\;petite trousse de 1ers
 soins\n\n&nbsp\;\n\nInscription&nbsp\;requise pour déterminer le nombre de
 personnes.\n\nActivité reportée à une date ultérieure en cas de mauvais
 temps. Un courriel sera transmis avant 18 h\, la veille de l’activité\,
 en cas d’annulation ou de report.\n\nPour plus de renseignements&nbsp\;:
 https://www.sepaq.com/pq/grj/\n\n&nbsp\;\n\nPersonne-ressource&nbsp\;: Isa
 Eve Chabot (isaevechabot@gmail.com)
CATEGORIES:Sorties photo
END:VEVENT
END:VCALENDAR