BEGIN:VCALENDAR
VERSION:2.0
PRODID:-//wp-events-plugin.com//7.2.3.1//EN
TZID:America/New_York
X-WR-TIMEZONE:America/New_York
BEGIN:VEVENT
UID:737@clubdimension.org
DTSTART;TZID=America/New_York:20220312T093000
DTEND;TZID=America/New_York:20220312T113000
DTSTAMP:20220310T184727Z
URL:https://www.clubdimension.org/evenements/sortie-de-groupe-limoilou-dan
 s-la-gadoue/
SUMMARY:Sortie de groupe - Limoilou dans la gadoue- Reportée
DESCRIPTION:IMPORTANT !  La sortie est reportée au samedi 9 avril en
 raison des conditions météorologiques.\n\n•Limoilou dans la gadoue
 !\n•Samedi 12 mars 2022 (reportée au 9 avril)-\n•Organisateurs de la
 sortie: Normand Lessard et Elisabeth Morin\n\nInformations à suivre dans
 l'infolettre
END:VEVENT
BEGIN:VTIMEZONE
TZID:America/New_York
X-LIC-LOCATION:America/New_York
BEGIN:STANDARD
DTSTART:20211107T010000
TZOFFSETFROM:-0400
TZOFFSETTO:-0500
TZNAME:EST
END:STANDARD
END:VTIMEZONE
END:VCALENDAR