BEGIN:VCALENDAR
VERSION:2.0
PRODID:-//wp-events-plugin.com//7.2.3.1//EN
TZID:America/New_York
X-WR-TIMEZONE:America/New_York
BEGIN:VEVENT
UID:736@clubdimension.org
DTSTART;TZID=America/New_York;VALUE=DATE:20220226
DTEND;TZID=America/New_York;VALUE=DATE:20220227
DTSTAMP:20220204T155605Z
URL:https://www.clubdimension.org/evenements/sortie-de-groupe-la-course-de
 -la-banquise-de-portneuf/
SUMMARY:Sortie de groupe - La course de la banquise de Portneuf
DESCRIPTION:\n\n\nNe pouvant pas recevoir les athlètes du Circuit
 québécois de canot à glace\, le segment  course à canot du festival
 de la banquise de Portneuf est annulé.\nPar le fait même\, la sortie qui
 était prévue le 26 février est également annulée.\n\n\n\n\n\n\n
 	Festival de la banquise de Portneuf (course en canot)\n\n•Samedi 26
 février 2022\n•Organisateurs de la sortie :  Michel Pézolet et Mario
 Walker\n\nInformations à suivre dans l'infolettre
END:VEVENT
BEGIN:VTIMEZONE
TZID:America/New_York
X-LIC-LOCATION:America/New_York
BEGIN:STANDARD
DTSTART:20211107T010000
TZOFFSETFROM:-0400
TZOFFSETTO:-0500
TZNAME:EST
END:STANDARD
END:VTIMEZONE
END:VCALENDAR