BEGIN:VCALENDAR
VERSION:2.0
PRODID:-//wp-events-plugin.com//7.2.3.1//EN
TZID:America/New_York
X-WR-TIMEZONE:America/New_York
BEGIN:VEVENT
UID:782@clubdimension.org
DTSTART:20221215T000000Z
DTEND:20221215T023000Z
DTSTAMP:20221107T130732Z
URL:https://www.clubdimension.org/evenements/sortie-de-groupe-du-temps-des
 -fetes/
SUMMARY:Sortie de groupe du temps des fêtes
DESCRIPTION:Sortie du temps des fêtes\n\nLe temps des fêtes arrive à
 grand pas. Le Trait-Carré de Charlesbourg va s’illuminer en décembre.
 Quelle belle occasion pour faire de la photo nocturne !&nbsp\;\n\nVous
 êtes invités à une sortie le 14 décembre.\n\n 	Point de
 rencontre&nbsp\;: Devant l’Église St-Charles-Borromée\n\n\n
 	Heure&nbsp\;: 19 h\n\n\n 	Organisateurs&nbsp\;: Lucie Baillargeon et
 Normand Lessard\n\nInformation:
 lucie.baillargeon@fmed.ulaval.ca\n\n\n\n&nbsp\;\n\n\n\n\n\n\nLutinescence\n
 \nquebec-cite.com\n\n\n\n\n\n\n\n&nbsp\;\n\nInformation:&nbsp\;lucie.bailla
 rgeon@fmed.ulaval.ca\n\n&nbsp\;
CATEGORIES:Activités
END:VEVENT
END:VCALENDAR