BEGIN:VCALENDAR
VERSION:2.0
PRODID:-//wp-events-plugin.com//7.2.3.1//EN
TZID:America/New_York
X-WR-TIMEZONE:America/New_York
BEGIN:VEVENT
UID:539@clubdimension.org
DTSTART:20190919T000000Z
DTEND:20190919T023000Z
DTSTAMP:20190906T153257Z
URL:https://www.clubdimension.org/evenements/soiree-reguliere/
SUMMARY:Soirée régulière du 18 septembre
DESCRIPTION:AU PROGRAMME :\n\nCes images qui nous ressemblent par Lise
 Allard et Mario Walker\n\nExposition annuelle : quels seront les thèmes?
 Quelles sont les nouveautés? Le comité d'exposition fait le
 point\n\nAutoportrait :&nbsp\;avez-vous déjà tenté de faire votre
 autoportrait? Ce défi vous intéresse? Natacha Castonguay nous explique
 les règles à suivre.\n\nS'améliorer ensemble : bilan de la saison
 2018-2019 et lancement de la nouvelle édition. Présentations par Annie
 Boisvert\, Michel Pellerin\, Sylvain Bergeron\, Éric Legardeur\, Anne
 Dion\n\n&nbsp\;\n\nRappel\n\nDate de tombée pour le thème 1 - Mouvement.
 Le 18 septembre est la dernière journée pour l'envoie de votre photo à
 l'attention de Guy Desrosiers (guy.desrosiers.photo@gmail.com)\n\nSortie
 aux étoiles le samedi 20 septembre pour les personnes inscrites
 seulement.&nbsp\;\n\n&nbsp\;\n\nPour en savoir plus sur :\n\nCes images qui
 nous ressemblent\, cliquez ici\n\nS'améliorer ensemble\, cliquez
 ici\n\nLes thèmes de la saison\, cliquez ici
END:VEVENT
END:VCALENDAR