BEGIN:VCALENDAR
VERSION:2.0
PRODID:-//wp-events-plugin.com//7.2.3.1//EN
TZID:America/New_York
X-WR-TIMEZONE:America/New_York
BEGIN:VEVENT
UID:775@clubdimension.org
DTSTART:20221110T000000Z
DTEND:20221110T020000Z
DTSTAMP:20221102T115356Z
URL:https://www.clubdimension.org/evenements/soiree-reguliere-du-9-novembr
 e-2022/
SUMMARY:Soirée régulière du 9 novembre 2022
DESCRIPTION:Au programme: Cette soirée se tiendra en mode virtuel.\n\n 	Un
 style bien défini\n\nQuatre membres de notre Club nous présenteront un
 aspect de leur travail de photographe. Chacun a développé un style bien
 défini et partagera avec les membres du Club leur expérience.\n\n 	Bilan
 du groupe PHOTO DE NUIT dans le cadre de l'activité S'AMÉLIORER ENSEMBLE
 qui s'est déroulée durant la saison 2021-2022.\n
CATEGORIES:Conférence
END:VEVENT
END:VCALENDAR