BEGIN:VCALENDAR
VERSION:2.0
PRODID:-//wp-events-plugin.com//7.2.3.1//EN
TZID:America/New_York
X-WR-TIMEZONE:America/New_York
BEGIN:VEVENT
UID:674@clubdimension.org
DTSTART;TZID=America/New_York:20210908T190000
DTEND;TZID=America/New_York:20210908T210000
DTSTAMP:20210811T145454Z
URL:https://www.clubdimension.org/evenements/soiree-reguliere-du-8-septemb
 re-2021/
SUMMARY:Soirée régulière du 8 septembre 2021
DESCRIPTION:Au programme de la première soirée régulière de la saison
 2021-2022:\n\n 	Présentation du montage CES IMAGES QUI NOUS
 RESSEMBLENT\;\n 	Activité d’ouverture de la saison: Quizz sur la
 photographie\;\n 	Lancement du projet:  Une vision cinq temps\n 	Info
 Rallye\;\n 	Info Projet abonnés\;\n 	Programmation automne 2021.\n
END:VEVENT
BEGIN:VTIMEZONE
TZID:America/New_York
X-LIC-LOCATION:America/New_York
BEGIN:DAYLIGHT
DTSTART:20210314T030000
TZOFFSETFROM:-0500
TZOFFSETTO:-0400
TZNAME:EDT
END:DAYLIGHT
END:VTIMEZONE
END:VCALENDAR