BEGIN:VCALENDAR
VERSION:2.0
PRODID:-//wp-events-plugin.com//7.2.3.1//EN
TZID:America/New_York
X-WR-TIMEZONE:America/New_York
BEGIN:VEVENT
UID:575@clubdimension.org
DTSTART:20200109T000000Z
DTEND:20200109T023000Z
DTSTAMP:20200106T021009Z
URL:https://www.clubdimension.org/evenements/soiree-reguliere-du-8-janvier
 -2020/
SUMMARY:Soirée régulière du 8 janvier 2020
DESCRIPTION:Au programme de la soirée\n\n 	Présentation par les membres :
 l'année débute en beauté avec une présentation du portfolio de Nicole
 Barge.\n 	Nostalgie et popcorn : jetons un coup d'oeil nostalgique sur des
 photographies significatives prises par les participants avant l'ère
 numérique ou aux photographies anciennes\, en savourant un délicieux
 Popcorn!\n 	Capsule&nbsp\;retouche de photos anciennes :
 Jocelyn&nbsp\;Jeffrey expliquera quels sont les principaux outils
 disponibles ( ex. correcteur localisé\, les outils &nbsp\;« pièce »\,
 « tampon » ) dans Photoshop pour effectuer des retouches sur des photos
 anciennes qui ont été préalablement numérisées. Par la suite\,
 Jean-Pierre Riffon fera&nbsp\;une brève démonstration&nbsp\;de son «
 workflow » avec les outils Photoshop à partir de photos anciennes
 numérisées\n\nRappels\n\n 	Thème : vous avez jusqu'au 5 février pour
 transmettre votre photographie sous le thème « Créativité numérique »
 à l'adresse themes@clubdimension.org. Toute l'information se trouve ici.\n
 	Conception d'un album numérique : le 22 janvier se tiendra une soirée
 thématique sur le montage d'un album numérique. Sélectionnez entre 20 et
 30 photos en prévision de cette activité.&nbsp\;\n 	Formations Michel
 Proulx : les inscriptions débutent en janvier pour les deux formations
 donnés par Michel Proulx les 14 et 15 mars. Pour vous inscrire\, cliquez
 sur ce lien.\n\nLes activités en cours : \n\n 	S'améliorer ensemble\,
 surveillez le calendrier de votre groupe!\n\nPour en savoir plus sur
 :\n\nLes modalités de réservation du studio\, cliquez ici.\n\n&nbsp\;
END:VEVENT
END:VCALENDAR