BEGIN:VCALENDAR
VERSION:2.0
PRODID:-//wp-events-plugin.com//7.2.3.1//EN
TZID:America/New_York
X-WR-TIMEZONE:America/New_York
BEGIN:VEVENT
UID:788@clubdimension.org
DTSTART:20230209T001500Z
DTEND:20230209T020000Z
DTSTAMP:20230105T214321Z
URL:https://www.clubdimension.org/evenements/soiree-reguliere-du-8-fevrier
 -2023/
SUMMARY:Soirée régulière du 8 février 2023
DESCRIPTION:Au programme: en présentiel au&nbsp\;centre des loisirs
 Noël-Brulart situé au 1229 Chanoine-Morel à Sillery. Nous avons accès
 à la salle à compter de 19h00. La rencontre commencera à 19h15.\n\n
 	Présentation pour souligner le 40e anniversaire du Club Dimension\n
 	Analyse du thème 3: &nbsp\;Sujets en oppositions / Yin &amp\; yang\n
 	Présentation de Martin Labbé: récit d'un voyage en Chine\n
CATEGORIES:Activités
END:VEVENT
END:VCALENDAR