BEGIN:VCALENDAR
VERSION:2.0
PRODID:-//wp-events-plugin.com//7.2.3.1//EN
TZID:America/New_York
X-WR-TIMEZONE:America/New_York
BEGIN:VEVENT
UID:656@clubdimension.org
DTSTART;TZID=America/New_York:20210407T190000
DTEND;TZID=America/New_York:20210407T204500
DTSTAMP:20201207T150306Z
URL:https://www.clubdimension.org/evenements/soiree-reguliere-du-7-avril-2
 021/
SUMMARY:Soirée régulière du 7 avril 2021
DESCRIPTION:Au programme:\n\n 	Présentation des photos prises lors de
 l'activité S'AMÉLIORER ENSEMBLE\, thème Expérimentation\n 	Analyse des
 photos du thème 4 : Chiffres impairs\n
END:VEVENT
BEGIN:VTIMEZONE
TZID:America/New_York
X-LIC-LOCATION:America/New_York
BEGIN:DAYLIGHT
DTSTART:20210314T030000
TZOFFSETFROM:-0500
TZOFFSETTO:-0400
TZNAME:EDT
END:DAYLIGHT
END:VTIMEZONE
END:VCALENDAR