BEGIN:VCALENDAR
VERSION:2.0
PRODID:-//wp-events-plugin.com//7.2.3.1//EN
TZID:America/New_York
X-WR-TIMEZONE:America/New_York
BEGIN:VEVENT
UID:710@clubdimension.org
DTSTART;TZID=America/New_York:20220406T190000
DTEND;TZID=America/New_York:20220406T210000
DTSTAMP:20220330T152502Z
URL:https://www.clubdimension.org/evenements/soiree-reguliere-du-6-avril-2
 022/
SUMMARY:Soirée régulière du 6 avril 2022
DESCRIPTION:Au programme:\n\nLors de la soirée régulière du 6 avril\,
 nous recevrons le photographe-conférencier Christopher Méthot. Le sujet
 de sa conférence sera la photographie en noir et blanc. Fort de 40 années
 d’expérience\, Christopher privilégie la qualité d’une prise de vue
 à tout artifice que pourrait apporter la technologie. Selon lui\,
 l’émotion que transporte une photographie est primordiale et
 indissociable d’une bonne maîtrise technique.\n\nÉtant donné que notre
 conférencier fait des présentations seulement en présentiel\, cette
 rencontre aura lieu au Centre culturel Georges d’Or situé au 3490 Rte de
 l'Aéroport à 19h00. (Le Domaine de Maizerets n’était pas disponible
 lorsque nous avons planifié cette conférence.)\n\nDurant cette soirée\,
 nous respecterons les consignes sanitaires prescrites par la Santé
 publique soit le port du masque ou du couvre-visage obligatoire dans les
 lieux publics fermés pour les personnes de 10 ans et plus. \n\n Au
 plaisir de vous y retrouver !\n\n&nbsp\;
END:VEVENT
BEGIN:VTIMEZONE
TZID:America/New_York
X-LIC-LOCATION:America/New_York
BEGIN:DAYLIGHT
DTSTART:20220313T030000
TZOFFSETFROM:-0500
TZOFFSETTO:-0400
TZNAME:EDT
END:DAYLIGHT
END:VTIMEZONE
END:VCALENDAR