BEGIN:VCALENDAR
VERSION:2.0
PRODID:-//wp-events-plugin.com//7.2.3.1//EN
TZID:America/New_York
X-WR-TIMEZONE:America/New_York
BEGIN:VEVENT
UID:792@clubdimension.org
DTSTART:20230406T000000Z
DTEND:20230406T020000Z
DTSTAMP:20230105T213747Z
URL:https://www.clubdimension.org/evenements/soiree-reguliere-du-5-avril/
SUMMARY:Soirée régulière du 5 avril
DESCRIPTION:Au programme : en mode virtuel\n\n 	Analyse thème 4:
 &nbsp\;Photographie abstraite\n 	Bilan s’améliorer ensemble (paysage)\n
 	Défi hiver (montage photos)\n 	Présentation Éric Legardeur sur la photo
 sociale\n 	Rallye info\n
CATEGORIES:Activités
END:VEVENT
END:VCALENDAR