BEGIN:VCALENDAR
VERSION:2.0
PRODID:-//wp-events-plugin.com//7.2.3.1//EN
TZID:America/New_York
X-WR-TIMEZONE:America/New_York
BEGIN:VEVENT
UID:580@clubdimension.org
DTSTART:20200305T000000Z
DTEND:20200305T023000Z
DTSTAMP:20200301T120705Z
URL:https://www.clubdimension.org/evenements/soiree-reguliere-du-4-mars/
SUMMARY:Soirée régulière du 4 mars
DESCRIPTION:PROGRAMME DE LA SOIRÉE\n\nConférence de Annie Simard\,
 photographe spécialisée en mariage et en portrait\n\nSujet : Mariage et
 portrait\n\nContenu : Comprendre la lumière pour mettre en valeur son
 sujet. Créer une ambiance conviviale\, mettre à l'aise le sujet et faire
 ressortir son essence. Raffiner les poses pour éviter Photoshop!
 Explication des grandes lignes d'une journée de mariage.&nbsp\;\n\nEn
 savoir plus sur Annie Simard\n\nLa photographie est une grande passion qui
 s’est transformée en travail\, depuis maintenant plusieurs
 années.\n\nD'abord animatrice radio pendant plus de 15 ans\, Annie Simard
 aime parler aux gens\, les mettre à l'aise. Depuis près de dix ans
 maintenant\, elle se spécialise dans les reportages et couverture en
 photographie de mariage dans la région de Québec et ailleurs\, portrait
 et rencontres boudoir.\n\n« Je prends un plaisir fou à vous révéler
 sous votre plus bel angle. Rien de figé\, j’adore votre naturel et la
 beauté d’un éclat de rire spontané. »\n\nConsulter son site Web :
 https://anniesimardphoto.com\n\nRappels\n\n 	Thème : dernier thème de la
 saison « Par la fenêtre » qui sera présenté par Francois Guay. Toute
 l'information se trouve ici.\n 	Formations Michel Proulx : les ateliers se
 déroulent les 14 et 15 mars.&nbsp\;\n 	Relever le défi de l'éclairage :
 le 21 mars\, un atelier à ne pas manquer pour comprendre l'effet de la
 lumière sur le sujet. Pour plus d'info\, cliquez ici&nbsp\;\n\nLes
 activités en cours : \n\n 	S'améliorer ensemble\, surveillez le
 calendrier de votre groupe!\n\nPour en savoir plus sur :\n\nLes modalités
 de réservation du studio\, cliquez ici.
LOCATION:Domaine de Maizerets (salle 200)\, 2000 boulevard Montmorency\,
 Québec\, Québec\, G1J 5E7\, Canada
GEO:46.8364258;-71.21591139999998
X-APPLE-STRUCTURED-LOCATION;VALUE=URI;X-ADDRESS=2000 boulevard
 Montmorency\, Québec\, Québec\, G1J 5E7\,
 Canada;X-APPLE-RADIUS=100;X-TITLE=Domaine de Maizerets (salle
 200):geo:46.8364258,-71.21591139999998
END:VEVENT
END:VCALENDAR