BEGIN:VCALENDAR
VERSION:2.0
PRODID:-//wp-events-plugin.com//7.2.3.1//EN
TZID:America/New_York
X-WR-TIMEZONE:America/New_York
BEGIN:VEVENT
UID:839@clubdimension.org
DTSTART;TZID=America/New_York:20240403T190000
DTEND;TZID=America/New_York:20240403T210000
DTSTAMP:20231207T120339Z
URL:https://www.clubdimension.org/evenements/soiree-reguliere-du-3-avril-2
 024/
SUMMARY:Soirée régulière du 3 avril 2024
DESCRIPTION:Les membres présentent\n\n\n 	Entrevue en deux Dimensions par
 Claude Gignac\n 	Bilan S’améliorer ensemble:&nbsp\;Photo de nuit par
 Sylvie Blais\n 	Présentation du montage photo défi d’hiver: photo à la
 carte\n 	Présentation astrophotographie par Jean Genest\n 	Les formes en
 architecture par Louise Létourneau&nbsp\;\n 	Info rallye\n 	Reconnaissance
 des bénévoles\n\nEn présentiel à Beauport 
CATEGORIES:Activités
END:VEVENT
BEGIN:VTIMEZONE
TZID:America/New_York
X-LIC-LOCATION:America/New_York
BEGIN:DAYLIGHT
DTSTART:20240310T030000
TZOFFSETFROM:-0500
TZOFFSETTO:-0400
TZNAME:EDT
END:DAYLIGHT
END:VTIMEZONE
END:VCALENDAR