BEGIN:VCALENDAR
VERSION:2.0
PRODID:-//wp-events-plugin.com//7.2.3.1//EN
TZID:America/New_York
X-WR-TIMEZONE:America/New_York
BEGIN:VEVENT
UID:876@clubdimension.org
DTSTART;TZID=America/New_York:20250129T190000
DTEND;TZID=America/New_York:20250129T210000
DTSTAMP:20250121T141741Z
URL:https://www.clubdimension.org/evenements/soiree-reguliere-du-29-janvie
 r-2025/
SUMMARY:Soirée régulière du 29 janvier 2025
DESCRIPTION:Au programme:\n\n 	La photographie infrarouge\n 	Présentation
 de la vidéo help Portrait\n\n&nbsp\;\n\nLieu: Centre Mgr de Laval à
 Beauport (sur place et hybride)\n\nHeures: 19h00 à 21h00
CATEGORIES:Activités
END:VEVENT
BEGIN:VTIMEZONE
TZID:America/New_York
X-LIC-LOCATION:America/New_York
BEGIN:STANDARD
DTSTART:20241103T010000
TZOFFSETFROM:-0400
TZOFFSETTO:-0500
TZNAME:EST
END:STANDARD
END:VTIMEZONE
END:VCALENDAR