BEGIN:VCALENDAR
VERSION:2.0
PRODID:-//wp-events-plugin.com//7.2.3.1//EN
TZID:America/New_York
X-WR-TIMEZONE:America/New_York
BEGIN:VEVENT
UID:753@clubdimension.org
DTSTART:20220929T000000Z
DTEND:20220929T020000Z
DTSTAMP:20220902T123140Z
URL:https://www.clubdimension.org/evenements/soiree-reguliere-du-28-septem
 bre/
SUMMARY:Soirée régulière du 28 septembre
DESCRIPTION:Au programme : Conférence de Joseph Moisan-De Serres
 (insectes)\n\nLieu:  Centre des loisirs Mgr de Laval\n\nHeure: 19h00
END:VEVENT
END:VCALENDAR