BEGIN:VCALENDAR
VERSION:2.0
PRODID:-//wp-events-plugin.com//7.2.3.1//EN
TZID:America/New_York
X-WR-TIMEZONE:America/New_York
BEGIN:VEVENT
UID:774@clubdimension.org
DTSTART:20221027T000000Z
DTEND:20221027T020000Z
DTSTAMP:20221015T105315Z
URL:https://www.clubdimension.org/evenements/soiree-reguliere-du-26-octobr
 e-2022/
SUMMARY:Soirée régulière du 26 octobre 2022
DESCRIPTION:Au programme: cette soirée se tiendra en mode
 virtuel.\n\nConférence de Daniel Castonguay\n\nSujet: photo de rue
 créative (fine art digital)\n\n\nDaniel Castonguay est un photographe de
 rue basé à Montréal. Il est entre autres\, récipiendaire du prix de la
 photo Fine Art de l'année 2019 aux MonoVisions Photography Awards à
 Londres. Vivant dans une grande ville\, il est naturellement attiré par la
 photographie de rue et dépeint la vie quotidienne dans sa forme la plus
 simple.\n\nAfin de donner une touche plus authentique à son travail\,
 audacieux et fortement influencé par le mouvement pictorialiste du début
 du XXe siècle et des artistes tels qu'Alfred Stieglitz\, Robert Demachy et
 Léonard Misonne\, il commence à traiter son imagerie pour la rendre un
 peu plus mystérieuse et poétique. Cela aura pour effet de combiner des
 moments de vie simples avec son état d'esprit\, résultant en un style
 unique de photographie de rue créative."\n\n\n\n\n&nbsp\;
CATEGORIES:Activités
END:VEVENT
END:VCALENDAR