BEGIN:VCALENDAR
VERSION:2.0
PRODID:-//wp-events-plugin.com//7.2.3.1//EN
TZID:America/New_York
X-WR-TIMEZONE:America/New_York
BEGIN:VEVENT
UID:880@clubdimension.org
DTSTART;TZID=America/New_York:20250326T190000
DTEND;TZID=America/New_York:20250326T210000
DTSTAMP:20250109T145956Z
URL:https://www.clubdimension.org/evenements/soiree-reguliere-du-26-mars-2
 025/
SUMMARY:Soirée régulière du 26 mars 2025
DESCRIPTION:Au programme:\n\nConférencière: Lison Chénier\n\nSujet:
 Macrophotographie et photo rapprochée - fleurs et champignons\n\nEN ZOOM
CATEGORIES:Activités
END:VEVENT
BEGIN:VTIMEZONE
TZID:America/New_York
X-LIC-LOCATION:America/New_York
BEGIN:DAYLIGHT
DTSTART:20250309T030000
TZOFFSETFROM:-0500
TZOFFSETTO:-0400
TZNAME:EDT
END:DAYLIGHT
END:VTIMEZONE
END:VCALENDAR