BEGIN:VCALENDAR
VERSION:2.0
PRODID:-//wp-events-plugin.com//7.2.3.1//EN
TZID:America/New_York
X-WR-TIMEZONE:America/New_York
BEGIN:VEVENT
UID:787@clubdimension.org
DTSTART:20230126T000000Z
DTEND:20230126T020000Z
DTSTAMP:20230105T212330Z
URL:https://www.clubdimension.org/evenements/soiree-reguliere-du-25-janvie
 r-2023/
SUMMARY:Soirée régulière du 25 janvier 2023
DESCRIPTION:Au programme:\n\nConférence de Lucie Gagnon en mode
 virtuel\n\nSujet : L'art évanescent
CATEGORIES:Activités
END:VEVENT
END:VCALENDAR