BEGIN:VCALENDAR
VERSION:2.0
PRODID:-//wp-events-plugin.com//7.2.3.1//EN
TZID:America/New_York
X-WR-TIMEZONE:America/New_York
BEGIN:VEVENT
UID:653@clubdimension.org
DTSTART;TZID=America/New_York:20210224T190000
DTEND;TZID=America/New_York:20210224T204500
DTSTAMP:20201207T145207Z
URL:https://www.clubdimension.org/evenements/soiree-reguliere-du-24-fevrie
 r-2021/
SUMMARY:Soirée régulière du 24 février 2021
DESCRIPTION:Au programme:\n\n 	Conférence de Jean-François Landry de chez
 Gosselin : thème : Du musée à l'église: photographier à la lumière
 ambiante&nbsp\;\n
END:VEVENT
BEGIN:VTIMEZONE
TZID:America/New_York
X-LIC-LOCATION:America/New_York
BEGIN:STANDARD
DTSTART:20201101T010000
TZOFFSETFROM:-0400
TZOFFSETTO:-0500
TZNAME:EST
END:STANDARD
END:VTIMEZONE
END:VCALENDAR