BEGIN:VCALENDAR
VERSION:2.0
PRODID:-//wp-events-plugin.com//7.2.3.1//EN
TZID:America/New_York
X-WR-TIMEZONE:America/New_York
BEGIN:VEVENT
UID:776@clubdimension.org
DTSTART:20221124T000000Z
DTEND:20221124T020000Z
DTSTAMP:20221118T010636Z
URL:https://www.clubdimension.org/evenements/soiree-reguliere-du-23-novemb
 re-2022/
SUMMARY:Soirée régulière du 23 novembre 2022
DESCRIPTION:Au programme: cette soirée se tiendra au centre des loisirs
 Mgr de Laval au 2 rue Fargy à 19h00.\n\nConférence de Nathalie
 Damboise\n\nSujet: la photographie panoramique\n\n&nbsp\;
CATEGORIES:Activités
END:VEVENT
END:VCALENDAR