BEGIN:VCALENDAR
VERSION:2.0
PRODID:-//wp-events-plugin.com//7.2.3.1//EN
TZID:America/New_York
X-WR-TIMEZONE:America/New_York
BEGIN:VEVENT
UID:714@clubdimension.org
DTSTART;TZID=America/New_York:20220223T190000
DTEND;TZID=America/New_York:20220223T210000
DTSTAMP:20220103T140441Z
URL:https://www.clubdimension.org/evenements/soiree-reguliere-du-23-fevrie
 r-2022/
SUMMARY:Soirée régulière du 23 février 2022
DESCRIPTION:Au programme:\n\n 	Capsule technique : gestion du bruit en
 photographie par Michel Pézolet\n 	Présentation : la photographie de
 lune par Jacques Morissette\n 	Présentation du montage photo : À la
 manière de Doisneau\n
END:VEVENT
BEGIN:VTIMEZONE
TZID:America/New_York
X-LIC-LOCATION:America/New_York
BEGIN:STANDARD
DTSTART:20211107T010000
TZOFFSETFROM:-0400
TZOFFSETTO:-0500
TZNAME:EST
END:STANDARD
END:VTIMEZONE
END:VCALENDAR