BEGIN:VCALENDAR
VERSION:2.0
PRODID:-//wp-events-plugin.com//7.2.3.1//EN
TZID:America/New_York
X-WR-TIMEZONE:America/New_York
BEGIN:VEVENT
UID:675@clubdimension.org
DTSTART;TZID=America/New_York:20210922T190000
DTEND;TZID=America/New_York:20210922T210000
DTSTAMP:20210811T145852Z
URL:https://www.clubdimension.org/evenements/soiree-reguliere-du-22-septem
 bre-2021/
SUMMARY:Soirée régulière du 22 septembre 2021
DESCRIPTION:Au programme:\n\n 	Lancement: S’améliorer ensemble\;\n
 	Info Mentorat\n 	Présentation : Droit à l’image par Eric
 Legardeur\;\n 	Segment : Comment as-tu fait ?\n
END:VEVENT
BEGIN:VTIMEZONE
TZID:America/New_York
X-LIC-LOCATION:America/New_York
BEGIN:DAYLIGHT
DTSTART:20210314T030000
TZOFFSETFROM:-0500
TZOFFSETTO:-0400
TZNAME:EDT
END:DAYLIGHT
END:VTIMEZONE
END:VCALENDAR