BEGIN:VCALENDAR
VERSION:2.0
PRODID:-//wp-events-plugin.com//7.2.3.1//EN
TZID:America/New_York
X-WR-TIMEZONE:America/New_York
BEGIN:VEVENT
UID:791@clubdimension.org
DTSTART:20230323T001500Z
DTEND:20230323T020000Z
DTSTAMP:20230105T213551Z
URL:https://www.clubdimension.org/evenements/soiree-reguliere-du-22-mars-2
 023/
SUMMARY:Soirée régulière du 22 mars 2023
DESCRIPTION:Au programme: en mode virtuel\n\n 	Présentation du montage
 photos : Défi 13 photos\n 	Entrevue par Claude Gignac (20 min)\n 	Capsule
 technique&nbsp\;: photographie en transport par Paul Desruisseaux&nbsp\;\n
CATEGORIES:Activités
END:VEVENT
END:VCALENDAR