BEGIN:VCALENDAR
VERSION:2.0
PRODID:-//wp-events-plugin.com//7.2.3.1//EN
TZID:America/New_York
X-WR-TIMEZONE:America/New_York
BEGIN:VEVENT
UID:541@clubdimension.org
DTSTART:20191017T000000Z
DTEND:20191017T023000Z
DTSTAMP:20191004T152453Z
URL:https://www.clubdimension.org/evenements/soiree-reguliere-du-16-octobr
 e/
SUMMARY:Soirée régulière du 16 octobre
DESCRIPTION:AU PROGRAMME :\n\nConcours annuels : l'appel des candidatures
 est lancé!\n\n 	Le Club a fait plus que bonne figure au concours de la
 SPPQ l'an dernier remportant la seconde place. Jean-Pierre Riffon nous
 donne plus de détails sur l'édition 2020.\n 	Mario Walker présente
 l'édition 2020 du concours Les clubs photos s'exposent au Musée national
 de la photographie où nous avions figuré parmi les 12 meilleurs clubs.
 &nbsp\;\n 	Nouveau défi à venir!\n\nDécouverte : Vous connaissez le
 photographe Harry Benson? Mario Walker nous le fera découvrir\n\nPortfolio
 &nbsp\;: Isa Eve Chabot nous propose une présentation personnalisée sur
 sa démarche créative.\n\nNouvelle activité : sous le thème de la
 créativité\, Isa Eve Chabot nous propose un tout nouveau défi. Tous les
 détails à venir...\n\n&nbsp\;\n\nRappels\n\nDans le Collimateur : vous
 avez jusqu'au 20 octobre pour soumettre votre photo autour du sujet
 l'Abondance\n\nTaaaaaaxi! : vous avez jusqu'au 27 novembre pour soumettre
 votre photo du thème 2 - Taxi. La présentation aura lieu le 11
 décembre.\n\nVous souhaitez faire une présentation de votre portfolio à
 la session d'hiver? Contactez fabienne.racine@hotmail.com&nbsp\;\n\nLes
 activités en cours : \n\n 	S'améliorer ensemble\, surveillez le
 calendrier de votre groupe!\n 	Oserez-vous réaliser votre autoportrait?\n
 	Sortie dans Charlevoix le 19 octobre : inscription en
 cours\n\n&nbsp\;\n\nPour en savoir plus sur :\n\nConcours de la SPPQ\,
 cliquez ici\n\nConcours Les clubs photo s'exposent au MNP\, cliquez
 ici\n\nDans le Collimateur\,&nbsp\;cliquez ici\n\nLes thèmes de la
 saison\, cliquez ici\n\nLes modalités de réservation du studio\, cliquez
 ici.
END:VEVENT
END:VCALENDAR