BEGIN:VCALENDAR
VERSION:2.0
PRODID:-//wp-events-plugin.com//7.2.3.1//EN
TZID:America/New_York
X-WR-TIMEZONE:America/New_York
BEGIN:VEVENT
UID:752@clubdimension.org
DTSTART:20220915T000000Z
DTEND:20220915T020000Z
DTSTAMP:20220902T122914Z
URL:https://www.clubdimension.org/evenements/soiree-reguliere-du-14-septem
 bre/
SUMMARY:Soirée régulière du 14 septembre
DESCRIPTION:Exposition CES IMAGES QUI NOUS RESSEMBLENT\n\nPartager sa
 meilleure photo de l’été avec d’autres passionnés de photographie\,
 quelle belle façon de se retrouver pour une nouvelle saison du Club photo
 Dimension !\n\nLe 14 septembre 2022 se tiendra en présentiel notre
 première soirée régulière. Pour cette occasion\, nous vous invitons à
 une exposition illustrant nos meilleures photos de l’été 2022.  Cette
 exposition\, sous le signe de la simplicité\, se veut très conviviale. Ce
 sera l’occasion d’échanger entre photographes et d’accueillir les
 nouveaux membres ainsi que ceux que nous avons connus uniquement en mode
 virtuel.\n\nVoici les détails :\n\nDate et heure : le 14 septembre à
 19h00\n\nLieu : à déterminer\n\nPhoto : sur un carton noir ou blanc de
 16X20 (il peut être recyclé d’une ancienne\n\nexposition). Cela peut
 être une photo de la dimension de votre choix avec titre\n\net signature
 sur le carton ou sur la photo.\n\nCela peut être une photo ou un diptyque
 ou un triptyque sur un seul carton.\n\nSujet : votre photo préférée de
 l’été (elle doit être prise entre le 18 mai et le
 14septembre)\n\nRemise : le photographe apporte sa photo sur carton le 14
 septembre à 18h30.\n\nProfitez bien de l’été caméra au cou !\n\nLe
 comité des activités\n\n&nbsp\;
END:VEVENT
END:VCALENDAR