BEGIN:VCALENDAR
VERSION:2.0
PRODID:-//wp-events-plugin.com//7.2.3.1//EN
TZID:America/New_York
X-WR-TIMEZONE:America/New_York
BEGIN:VEVENT
UID:543@clubdimension.org
DTSTART:20191114T000000Z
DTEND:20191114T023000Z
DTSTAMP:20191004T152358Z
URL:https://www.clubdimension.org/evenements/soiree-reguliere-du-13-novemb
 re/
SUMMARY:Soirée régulière du 13 novembre
DESCRIPTION:Au programme :&nbsp\;\n\nAnalyse en direct : Deux analystes
 émettent des commentaires constructifs sur chaque photo soumise : quels
 sont les points forts? Quelles sont les suggestions d'amélioration? Deux
 analystes présentent leurs observations et donnent la parole à
 l'auteur.\n\nDans le Collimateur livre le résultat d'une récolte sous le
 signe de l'Abondance!&nbsp\;\n\nStudio Dimension : Charles-Étienne et Jean
 Genest présentent un premier atelier en direct.
 &nbsp\;\n\n&nbsp\;\n\nRappels\n\nVous avez jusqu'au (date) pour soumettre
 vos photos au concours interclubs Mongeon-Pépin de la SPPQ.\n\nVous avez
 jusqu'au (date) pour soumettre votre photo au concours Les clubs photo
 s'exposent au MNP.&nbsp\;\n\nLes activités en cours : \n\n 	S'améliorer
 ensemble\, surveillez le calendrier de votre groupe!\n 	Osez réaliser
 votre autoportrait! Il est encore temps de vous lancer...\n\nPour en savoir
 plus sur :\n\nLes modalités de réservation du studio\, cliquez ici.
END:VEVENT
END:VCALENDAR