BEGIN:VCALENDAR
VERSION:2.0
PRODID:-//wp-events-plugin.com//7.2.3.1//EN
TZID:America/New_York
X-WR-TIMEZONE:America/New_York
BEGIN:VEVENT
UID:650@clubdimension.org
DTSTART;TZID=America/New_York:20210113T190000
DTEND;TZID=America/New_York:20210113T204500
DTSTAMP:20201207T143334Z
URL:https://www.clubdimension.org/evenements/soiree-reguliere-du-13-janvie
 r-2021/
SUMMARY:Soirée régulière du 13 janvier 2021
DESCRIPTION:Au programme:\n\n 	Présentation de la programmation hiver
 2021\n 	Présentation du projet AUTOPORTRAIT\n 	Activité DERRIÈRE LA
 PHOTO (12 membres raconteront l'histoire derrière une photo signifiante
 pour eux)\n
END:VEVENT
BEGIN:VTIMEZONE
TZID:America/New_York
X-LIC-LOCATION:America/New_York
BEGIN:STANDARD
DTSTART:20201101T010000
TZOFFSETFROM:-0400
TZOFFSETTO:-0500
TZNAME:EST
END:STANDARD
END:VTIMEZONE
END:VCALENDAR