BEGIN:VCALENDAR
VERSION:2.0
PRODID:-//wp-events-plugin.com//7.2.3.1//EN
TZID:America/New_York
X-WR-TIMEZONE:America/New_York
BEGIN:VEVENT
UID:877@clubdimension.org
DTSTART;TZID=America/New_York:20250212T193000
DTEND;TZID=America/New_York:20250212T213000
DTSTAMP:20250109T195248Z
URL:https://www.clubdimension.org/evenements/soiree-reguliere-du-12-fevrie
 r-2025/
SUMMARY:Soirée régulière du 12 février 2025
DESCRIPTION:Au programme:\n\nAtelier 2 - Lecture d'une &nbsp\;photographie
 à partir de variables visuelles (Jacques Morissette et Normand Lessard) (
 suivi de la rencontre du 20 novembre dernier)\n\nLieu: Centre des loisirs
 Noël-Brûlart à Sillery\n\nHeures: 19h30 à 21h30
CATEGORIES:Activités
END:VEVENT
BEGIN:VTIMEZONE
TZID:America/New_York
X-LIC-LOCATION:America/New_York
BEGIN:STANDARD
DTSTART:20241103T010000
TZOFFSETFROM:-0400
TZOFFSETTO:-0500
TZNAME:EST
END:STANDARD
END:VTIMEZONE
END:VCALENDAR