BEGIN:VCALENDAR
VERSION:2.0
PRODID:-//wp-events-plugin.com//7.2.3.1//EN
TZID:America/New_York
X-WR-TIMEZONE:America/New_York
BEGIN:VEVENT
UID:615@clubdimension.org
DTSTART;TZID=America/New_York:20201118T190000
DTEND;TZID=America/New_York:20201118T213000
DTSTAMP:20200803T190044Z
URL:https://www.clubdimension.org/evenements/soiree-reguliere-2020-11-18/
SUMMARY:Soirée régulière du 18 novembre
DESCRIPTION:Au programme de la soirée :\n\nConférence de Francis Gagnon
 qui a pour titre : «&nbsp\;Plonger dans le monde de la photographie pose
 longue »\n\nLa conférence aborde la photographie pose longue de manière
 systématique et compréhensive. Elle est d’une durée d’environ 1h30.
LOCATION:Domaine de Maizerets\, 2000 boulevard Montmorency\, Québec\,
 Québec\, G1J 5E7\, Canada
GEO:46.836426;-71.215911
X-APPLE-STRUCTURED-LOCATION;VALUE=URI;X-ADDRESS=2000 boulevard
 Montmorency\, Québec\, Québec\, G1J 5E7\,
 Canada;X-APPLE-RADIUS=100;X-TITLE=Domaine de
 Maizerets:geo:46.836426,-71.215911
END:VEVENT
BEGIN:VTIMEZONE
TZID:America/New_York
X-LIC-LOCATION:America/New_York
BEGIN:STANDARD
DTSTART:20201101T010000
TZOFFSETFROM:-0400
TZOFFSETTO:-0500
TZNAME:EST
END:STANDARD
END:VTIMEZONE
END:VCALENDAR