BEGIN:VCALENDAR
VERSION:2.0
PRODID:-//wp-events-plugin.com//7.2.3.1//EN
TZID:America/New_York
X-WR-TIMEZONE:America/New_York
BEGIN:VEVENT
UID:613@clubdimension.org
DTSTART;TZID=America/New_York:20201021T190000
DTEND;TZID=America/New_York:20201021T213000
DTSTAMP:20201017T205900Z
URL:https://www.clubdimension.org/evenements/soiree-reguliere-2020-10-21/
SUMMARY:Soirée régulière du 21 octobre
DESCRIPTION:Au programme de la soirée :\n\n 	Explications du concours SPPQ
 2021 par Jean-Pierre Riffon (thème variable : moyens de transport)\n
 	Explications du concours Les clubs photos s'exposent au MNPQ par Michel
 Pézolet\n 	Présentation du défi ESCALIERS revisité\n 	Capsule technique
 :\nThe Photographer’s Ephemeris (TPE)\, PhotoPills et Planit Pro: trois
 applications pour la planification de photos de paysage.Pour bien réussir
 ses photos de paysage de jour ou de nuit\, il faut un minimum de
 planification pour déterminer où dans le ciel se trouvera le soleil\, la
 lune\, ou la Voie lactée. Des applications pour téléphones et tablettes
 mobiles donnent maintenant de l’Information sur le parcours exact du
 soleil\, de la lune\, de ses phases et de la Voie lactée n’importe où
 dans le monde et n’importe quand. Au cours de cette capsule technique\,
 nous ferons un survol de trois des applications les plus populaires pour la
 planification de photos de paysage et nous comparerons les avantages et les
 désavantages de chacune. Quelques exemples d’applications seront aussi
 présentés.\nMichel Pézolet et François Guay\n&nbsp\;\n\n
LOCATION:Domaine de Maizerets\, 2000 boulevard Montmorency\, Québec\,
 Québec\, G1J 5E7\, Canada
GEO:46.836426;-71.215911
X-APPLE-STRUCTURED-LOCATION;VALUE=URI;X-ADDRESS=2000 boulevard
 Montmorency\, Québec\, Québec\, G1J 5E7\,
 Canada;X-APPLE-RADIUS=100;X-TITLE=Domaine de
 Maizerets:geo:46.836426,-71.215911
END:VEVENT
BEGIN:VTIMEZONE
TZID:America/New_York
X-LIC-LOCATION:America/New_York
BEGIN:DAYLIGHT
DTSTART:20200308T030000
TZOFFSETFROM:-0500
TZOFFSETTO:-0400
TZNAME:EDT
END:DAYLIGHT
END:VTIMEZONE
END:VCALENDAR