BEGIN:VCALENDAR
VERSION:2.0
PRODID:-//wp-events-plugin.com//7.2.3.1//EN
TZID:America/New_York
X-WR-TIMEZONE:America/New_York
BEGIN:VEVENT
UID:849@clubdimension.org
DTSTART:20241207T140000Z
DTEND:20241207T210000Z
DTSTAMP:20241124T202109Z
URL:https://www.clubdimension.org/evenements/seance-photo-de-noel-de-vos-p
 roches/
SUMMARY:Séance photo de Noël de vos proches!
DESCRIPTION:Information importante:&nbsp\; Cette activité du comité
 studio est ouverte à tous les membres réguliers du Club de photo
 Dimension.&nbsp\; Saisisssez l'occasion de venir l'essayer et réaliser vos
 propres photos en studio tout en étant
 accompagné(e).&nbsp\;\n&nbsp\;\n\nÀ quelques jours de la fête de Noël\,
 quelle belle opportunité de tenir vous-même une séance photo de vos
 proches en studio avec des toiles thématiques et sous la supervision de
 l'équipe du comité studio.&nbsp\;Chaque photographe inscrit aura une
 plage horaire de 1h30 pour réaliser lui-même ses photos dans un des 3
 studios mis à sa disposition. L'équipe du comité studio sera sur place
 pour vous guider et vous assister au besoin.\n\nLes plages horaires sont de
 10h à 11h30\,&nbsp\; &nbsp\; 12h30 à 14h\,&nbsp\; 14h30 à 16h.\n\nLes 3
 studios mis à votre disposition sont 2 toiles thématiques de 10' x 10'
 (voir photos) et d'une toile noire qui est plus intemporelle de 10' x
 10'.&nbsp\;\n\n \n\nVous pouvez amener des accessoires additionnels mais
 pensez au temps d'installation et de désinstallation
 requis.&nbsp\;&nbsp\;\n\nImportant:&nbsp\; &nbsp\;Même s'il est
 préférable d'avoir suivi l'atelier d'introduction au studio photo pour
 cette activité car c'est vous qui prendrez les photos avec le matériel du
 studio\, vous pouvez venir essayer la formule et qui sait ca vous donnera
 peut-être la piqûre de poursuivre l'avfenture avec nous.&nbsp\; L'équipe
 studio offre même un petit cours ultra rapide sur les bases techniques
 soit de 9h à 10h pour les photographes du AM et de 11h30 à 12h30 pour les
 photographes du PM. Vous pourrez alors ajuster les paramètres de votre
 appareil et vous assurer que le tout est opérationnel avant votre plage
 horaire.\n\nPour participer\, vous devrez choisir l'un des billets
 offerts.&nbsp\; Un seul billet disponible par séance par
 studio.\n\nL'activité se tiendra aux Ateliers du
 réacteur.&nbsp\;&nbsp\;\n\nLa période d'inscription débutera le 11
 novembre 2024 à 19h\n\nPour toute question ou commentaires\, écrivez à
 studio@clubdimension.org\n\n&nbsp\;
CATEGORIES:Activités
LOCATION:Ateliers du Réacteur\, 731\, rue St-Vallier Est\, Québec\,
 Québec\, G1K 3P9\, Canada
X-APPLE-STRUCTURED-LOCATION;VALUE=URI;X-ADDRESS=731\, rue St-Vallier Est\,
 Québec\, Québec\, G1K 3P9\, Canada;X-APPLE-RADIUS=100;X-TITLE=Ateliers du
 Réacteur:geo:0,0
END:VEVENT
END:VCALENDAR