BEGIN:VCALENDAR
VERSION:2.0
PRODID:-//wp-events-plugin.com//7.2.3.1//EN
TZID:America/New_York
X-WR-TIMEZONE:America/New_York
BEGIN:VEVENT
UID:694@clubdimension.org
DTSTART;TZID=America/New_York;VALUE=DATE:20210927
DTEND;TZID=America/New_York;VALUE=DATE:20210928
DTSTAMP:20210927T140546Z
URL:https://www.clubdimension.org/evenements/sameliorer-ensemble-4/
SUMMARY:S'améliorer ensemble
DESCRIPTION:Vous désirez approfondir un sujet photographique durant la
 prochaine saison et échanger avec des camarades photographes ?\n\nLes
 groupes de base sont complets. Par contre\, étant donné le grand
 intérêt manifesté par les membres\, nous ouvrons un 6e groupe. Le sujet
 est Paysage et le coordonnateur est David Boutin.\n\nInscriptions : membres
 réguliers jusqu'au 4 octobre\n\nInscriptions: abonnés du 1er au 4 octobre
 (s'il reste des places)
CATEGORIES:Activités
END:VEVENT
BEGIN:VTIMEZONE
TZID:America/New_York
X-LIC-LOCATION:America/New_York
BEGIN:DAYLIGHT
DTSTART:20210314T030000
TZOFFSETFROM:-0500
TZOFFSETTO:-0400
TZNAME:EDT
END:DAYLIGHT
END:VTIMEZONE
END:VCALENDAR