BEGIN:VCALENDAR
VERSION:2.0
PRODID:-//wp-events-plugin.com//7.2.3.1//EN
TZID:America/New_York
X-WR-TIMEZONE:America/New_York
BEGIN:VEVENT
UID:550@clubdimension.org
DTSTART:20191202T000000Z
DTEND:20191202T023000Z
DTSTAMP:20190906T131831Z
URL:https://www.clubdimension.org/evenements/sameliorer-ensemble-2019-12-0
 1/
SUMMARY:S'améliorer ensemble
DESCRIPTION:«&nbsp\;S’améliorer ensemble&nbsp\;» est une activité
 créative offerte pour une deuxième année. Elle vise à fournir à des
 photographes ayant des intérêts communs\, des occasions de se rencontrer
 et de s'entraider.\n\nLes groupes seront assignés aux sujets suivants
 :\n\n 	vie citadine et/ou rurale (Éric Legardeur)\n 	architecture\,
 structure\, mobilier urbain (Annie Boisvert)\n 	paysage (Anne Dion)\n 	noir
 et blanc (Michel Pellerin)\n 	expérimentation (Sylvain Bergeron)\n\nUne
 description de l'activité se retrouve en suivant ce lien\n\nindiquer 3
 choix de sujet\, selon vos préférences\,&nbsp\;dans la case
 "commentaire"\, et cliquer "Envoyer votre demande de
 réservation".&nbsp\;\nExemple : 1er choix&nbsp\;Noir et blanc\,&nbsp\; 2e
 choix Vie citadine\,&nbsp\; &nbsp\;3e choix Paysage\nIl y a présentement 5
 candidatures possibles par sujet (total 25 participants). La priorité sera
 selon l'ordre d'inscription pour chacun des sujets et avec l'objectifs de
 combiner divers niveaux d'expertise dans chacun des groupes.\nVous pourriez
 ne pas être associé nécessairement au groupe de votre premier choix ou
 être mis sur une liste d'attente une fois les premiers 25 participants
 sélectionnés.
CATEGORIES:Ateliers
END:VEVENT
END:VCALENDAR