BEGIN:VCALENDAR
VERSION:2.0
PRODID:-//wp-events-plugin.com//7.2.3.1//EN
TZID:America/New_York
X-WR-TIMEZONE:America/New_York
BEGIN:VEVENT
UID:603@clubdimension.org
DTSTART:20200213T000000Z
DTEND:20200213T020000Z
DTSTAMP:20200120T000706Z
URL:https://www.clubdimension.org/evenements/reunion-preparatoire-pour-lat
 elier-sur-la-macrophotographie-et-la-photo-rapprochee/
SUMMARY:Réunion préparatoire pour l'atelier sur la macrophotographie et
 la photo rapprochée
DESCRIPTION:\n 	\nLa présence est fortement recommandée pour tous les
 participants à l'atelier du 22 février 2020. Pour accéder à la page de
 l'atelier\, cliquez sur ce lien.\n\n 	\nPrésentation des cinq stations par
 les animateurs.\n\n 	\nAssignation des sous-groupes.\n\n 	\nPrésentations
 portant sur la macrophotographie (Michel Pézolet) et sur le bokeh (Nicole
 Barge). Ces présentations sont ouvertes à tous les membres du Club.\n\n
 	\nN'oubliez pas de vous connecter pour réserver une place.\n\n
CATEGORIES:Ateliers
LOCATION:Domaine de Maizerets (salle 100)\, 2000 boulevard Montmorency\,
 Québec\, Canada
GEO:46.8364258;-71.21591139999998
X-APPLE-STRUCTURED-LOCATION;VALUE=URI;X-ADDRESS=2000 boulevard
 Montmorency\, Québec\, Canada;X-APPLE-RADIUS=100;X-TITLE=Domaine de
 Maizerets (salle 100):geo:46.8364258,-71.21591139999998
END:VEVENT
END:VCALENDAR