BEGIN:VCALENDAR
VERSION:2.0
PRODID:-//wp-events-plugin.com//7.2.3.1//EN
TZID:America/New_York
X-WR-TIMEZONE:America/New_York
BEGIN:VEVENT
UID:620@clubdimension.org
DTSTART;TZID=America/New_York:20200916T190000
DTEND;TZID=America/New_York:20200916T200000
DTSTAMP:20200821T235607Z
URL:https://www.clubdimension.org/evenements/redimensionner-et-exporter-de
 s-photos/
SUMMARY:Redimensionner et exporter des photos
DESCRIPTION:Les défis techniques sont nombreux en photo et leur maîtrise
 est souvent un casse-tête. C'est le cas pour l'exportation de photos dans
 des formats et des dimensions spécifiques.\nCompte tenu de l'importance de
 ce savoir-faire\, Michel Pézolet et François Guay vous convient\, en
 rappel\, à un atelier de formation sur ce sujet le&nbsp\;mercredi 16
 septembre de 19 h à 20 h\,&nbsp\;incluant la période de
 questions.\nL'emphase sera mise sur l'utilisation des&nbsp\;préréglages.
 À la toute fin de cette formation\, vous serez en mesure&nbsp\;d'exporter
 vos photos adéquatement\, soit avec&nbsp\;Lightroom ou avec
 Photoshop.\nCes connaissances sont essentielles&nbsp\;pour afficher
 correctement vos images avec le projecteur du club\, pour imprimer vos
 photos dans le cadre de l'exposition annuelle du club et pour définir les
 bons paramètres pour les photos de l'activité&nbsp\;Une vision en cinq
 temps.\nL'activité se déroulera en vidéoconférence par l'entremise de
 la plateforme Zoom. Il n'est donc pas nécessaire de s'y inscrire. Vous
 recevrez\, quelques jours avant\, un lien par courriel pour rejoindre la
 classe.\nBienvenue à tous les membres\, anciens et nouveaux!\n\nNous vous
 attendons&nbsp\;en grand nombre!\n&nbsp\;\n\n&nbsp\;
LOCATION:Formule en ligne\, lien internet\, Québec\, Canada
X-APPLE-STRUCTURED-LOCATION;VALUE=URI;X-ADDRESS=lien internet\, Québec\,
 Canada;X-APPLE-RADIUS=100;X-TITLE=Formule en ligne:geo:0,0
END:VEVENT
BEGIN:VTIMEZONE
TZID:America/New_York
X-LIC-LOCATION:America/New_York
BEGIN:DAYLIGHT
DTSTART:20200308T030000
TZOFFSETFROM:-0500
TZOFFSETTO:-0400
TZNAME:EDT
END:DAYLIGHT
END:VTIMEZONE
END:VCALENDAR