BEGIN:VCALENDAR
VERSION:2.0
PRODID:-//wp-events-plugin.com//7.2.3.1//EN
TZID:America/New_York
X-WR-TIMEZONE:America/New_York
BEGIN:VEVENT
UID:927@clubdimension.org
DTSTART;TZID=America/New_York:20260523T130000
DTEND;TZID=America/New_York:20260523T210000
DTSTAMP:20260421T132748Z
URL:https://www.clubdimension.org/evenements/rallye-photo-2026-16e-edition
 /
SUMMARY:Rallye photo 2026 - 16e édition
DESCRIPTION:Venez souligner avec nous la 16e édition du Rallye
 photo!\nQuartier St-Jean-Baptiste - Entre Faubourgs et Centre-ville\nVenez
 fêter avec nous la fin d’année en découvrant le quartier
 St-Jean-Baptiste! Une fois le rallye complété\, nous vous convions à
 venir festoyer à la salle 203 du Centre Communautaire Lucien-Borne\, au
 100 chemin Ste-Foy!  Souper\, présentation et remise de prix vous
 attendent!\nTous les membres (contribution aux frais de $10) ainsi que
 leurs invités non-membres (contribution aux frais de $15) ont rendez-vous
 le samedi 23 mai à 13h00 à la Promenade Desjardins\, 1000 Bd
 René-Lévesque Est\, Québec\, QC\, G1A 1B4 (25 minutes à pied du Centre
 communautaire Lucien-Borne). Veuillez prévoir le montant exact en argent
 comptant pour le coût d’inscription.\nFormation des équipes\n\n\n
 	Venez avec votre enthousiasme débordant et le sourire dans les yeux.\n
 	Sentez-vous bien à l’aise de venir seul(e)\, nous vous joindrons à une
 équipe.\n 	Facultatif - pensez à une signature pour votre équipe (nom\,
 particularité vestimentaire).\n\nStationnement au Centre et dans les rues
 avoisinantes (trajet du rallye presqu’une boucle)\n\n\n 	Rassemblement du
 départ du rallye à 25 minutes du centre communautaire de la soirée:
 Promenade Desjardins\, 1000 Bd René-Lévesque Est\, Québec\, QC\, G1A 1B4
 (25 minutes à pied du Centre communautaire Lucien-Borne).\n 	Fin du rallye
 et soirée su rallye: salle 203 du Centre Communautaire Lucien-Borne\, au
 100 chemin Ste-Foy\n\nInscription obligatoire\n\n\n 	Chaque membre
 s’inscrit individuellement et inscrit\, s’il y a lieu\, le nom de ses
 invités non-membres. Cette information doit être indiquée dans la
 section commentaire.\n 	Participation à la soirée uniquement? Vous devez
 l’indiquer dans la section commentaire avec votre sélection de choix de
 pizza pour vos chacune de vos 2 pointes (garnie\, végétarienne\,
 peppéroni\, fromage). Vous devez également contacter Hélène pour
 confirmer votre présence par téléphone au (581)308-5436 avant le 22 mai.
 \n\nInformations importantes\n\n\n 	Le rallye aura lieu beau temps\,
 mauvais temps : prévoir un sac ziploc et un élastique pour protéger
 votre appareil photo et pour vous\, des vêtements de circonstance ainsi
 que de bonnes chaussures de marche et une bouteille d’eau. Pensez à vous
 munir d’un chapeau et de crème solaire.\n 	Pour les réponses sous forme
 de photos et les photos obligatoires qui seront comptabilisées: seules les
 photos prises en jpeg provenant d’un seul appareil avec une carte
 mémoire vide au début du rallye seront acceptées.  Prévoir un cable
 USB pour le transfert des photos.\n\nPour en savoir davantage sur cette
 activité annuelle\, vous pouvez consulter l’onglet Rallye.\nVotre
 comité organisateur travaille très fort depuis l’été dernier pour
 vous faire vivre une expérience mémorable et a très hâte de vous faire
 découvrir un nouveau coin de la ville.\nHélène &amp\; Brad avec les
 merveilleux organisateurs : Denis Bussières\, Anne Dion\, Marc Dufresne\,
 France Gingras\, Sandro Klostermann et Michel
 Ouellet.\npresident@clubdimension.org\n(581)308-5436
CATEGORIES:Activités
END:VEVENT
BEGIN:VTIMEZONE
TZID:America/New_York
X-LIC-LOCATION:America/New_York
BEGIN:DAYLIGHT
DTSTART:20260308T030000
TZOFFSETFROM:-0500
TZOFFSETTO:-0400
TZNAME:EDT
END:DAYLIGHT
END:VTIMEZONE
END:VCALENDAR