BEGIN:VCALENDAR
VERSION:2.0
PRODID:-//wp-events-plugin.com//7.2.3.1//EN
TZID:America/New_York
X-WR-TIMEZONE:America/New_York
BEGIN:VEVENT
UID:689@clubdimension.org
DTSTART;TZID=America/New_York;VALUE=DATE:20210912
DTEND;TZID=America/New_York;VALUE=DATE:20210913
DTSTAMP:20210912T110810Z
URL:https://www.clubdimension.org/evenements/mentorat/
SUMMARY:Mentorat
DESCRIPTION:Le 12 septembre est le début de la période d'inscription des
 mentorés. Pour connaître tous les détails cliquez ici.\n\nVous
 comprendrez qu’il y aura un nombre limité de participants.\n\nSi nous
 dépassons notre capacité\, le choix sera fait en fonction de l’ordre
 d’inscription\, des sujets des mentorés et l’offre des mentors.\n\nPar
 contre\, les membres qui n’auront pas pu avoir de mentor en novembre
 auront la priorité lors de la session de mars.
END:VEVENT
BEGIN:VTIMEZONE
TZID:America/New_York
X-LIC-LOCATION:America/New_York
BEGIN:DAYLIGHT
DTSTART:20210314T030000
TZOFFSETFROM:-0500
TZOFFSETTO:-0400
TZNAME:EDT
END:DAYLIGHT
END:VTIMEZONE
END:VCALENDAR