BEGIN:VCALENDAR
VERSION:2.0
PRODID:-//wp-events-plugin.com//7.2.3.1//EN
TZID:America/New_York
X-WR-TIMEZONE:America/New_York
BEGIN:VEVENT
UID:457@clubdimension.org
DTSTART:20190326T000000Z
DTEND:20190326T020000Z
DTSTAMP:20180626T224511Z
URL:https://www.clubdimension.org/evenements/lightroom-avance-printemps-20
 18-2-2019-03-25/
SUMMARY:Lightroom avancé Printemps 2018
DESCRIPTION:Professeur :\nRémy Weber\n&nbsp\;\nContenu du cours :\n\n
 	Éléments avancés de certaines fonctions du logiciel (paramètres
 prédéfinis\, etc.)\n 	Catalogage avancé (multiples ordinateurs\,
 exportation de catalogues\, gestion des photos\, aperçus dynamiques\,
 etc.)\n 	Classement avancé (gestion avancée des photos\,
 géo-positionnement\, etc.)\n 	Édition avancée (traitement d’images
 avec les outils de développement et de retouche)\n 	Modules de création
 (diaporama\, livres\, publication\, etc.)\n 	Compléments divers (outils
 complémentaires\, etc.)\n\nCalendrier des cours&nbsp\;:\n4 mars 2019\n\n11
 mars 2019\n\n18 mars 2019\n\n25 mars 2019
LOCATION:Domaine de Maizerets (salle 203)\, 2000 boulevard Montmorency\,
 Québec\, Québec\, G1J 5E7\, Canada
GEO:46.8364258;-71.21591139999998
X-APPLE-STRUCTURED-LOCATION;VALUE=URI;X-ADDRESS=2000 boulevard
 Montmorency\, Québec\, Québec\, G1J 5E7\,
 Canada;X-APPLE-RADIUS=100;X-TITLE=Domaine de Maizerets (salle
 203):geo:46.8364258,-71.21591139999998
END:VEVENT
END:VCALENDAR