BEGIN:VCALENDAR
VERSION:2.0
PRODID:-//wp-events-plugin.com//7.2.3.1//EN
TZID:America/New_York
X-WR-TIMEZONE:America/New_York
BEGIN:VEVENT
UID:644@clubdimension.org
DTSTART;VALUE=DATE:20201021
DTEND;VALUE=DATE:20201022
DTSTAMP:20201023T115007Z
URL:https://www.clubdimension.org/evenements/lancement-du-defi-escaliers-n
 ouvelle-mouture/
SUMMARY:Lancement du défi Escaliers -  Nouvelle mouture
DESCRIPTION:&nbsp\;\n\nEntre le 21 octobre et le 22 novembre 2020\, nous
 vous invitons à enfiler vos meilleures chaussures de marche et à plonger
 dans l’histoire\, caméra au cou\, pour relever le Défi
 escaliers!&nbsp\; Pour connaître tous les détails de ce défi\, cliquez
 sur le lien&nbsp\;article .
END:VEVENT
END:VCALENDAR