BEGIN:VCALENDAR
VERSION:2.0
PRODID:-//wp-events-plugin.com//7.2.3.1//EN
TZID:America/New_York
X-WR-TIMEZONE:America/New_York
BEGIN:VEVENT
UID:324@clubdimension.org
DTSTART;VALUE=DATE:20160816
DTEND;VALUE=DATE:20160919
DTSTAMP:20160816T152305Z
URL:https://www.clubdimension.org/evenements/kadavresky-bouquet-dimages/
SUMMARY:Kadavresky - Bouquet d'images
DESCRIPTION:Le club de photo Dimension présente la quatrième édition de
 l'œuvre commune Kadavresky - Bouquet d'images\n\nCette œuvre commune
 s'adresse aux membres qui désirent  vivre une activité qui met au défi
 leur créativité.\n\nPour connaître les détails de cette quatrième
 édition\, c'est ici!\n\nInscrivez-vous sans tarder.\n\nFrançois et Gilles
END:VEVENT
END:VCALENDAR